BEGIN:VCALENDAR
VERSION:2.0
PRODID:-//Sabre//Sabre VObject 4.5.8//EN
CALSCALE:GREGORIAN
BEGIN:VTIMEZONE
TZID:Europe/Zurich
X-LIC-LOCATION:Europe/Zurich
TZURL:http://tzurl.org/zoneinfo/Europe/Zurich
BEGIN:DAYLIGHT
TZOFFSETFROM:+0100
TZOFFSETTO:+0200
TZNAME:CEST
DTSTART:19810329T020000
RRULE:FREQ=YEARLY;BYMONTH=3;BYDAY=-1SU
END:DAYLIGHT
BEGIN:STANDARD
TZOFFSETFROM:+0200
TZOFFSETTO:+0100
TZNAME:CET
DTSTART:19961027T030000
RRULE:FREQ=YEARLY;BYMONTH=10;BYDAY=-1SU
END:STANDARD
END:VTIMEZONE
BEGIN:VEVENT
UID:news837@theologie.unibas.ch
DTSTAMP;TZID=Europe/Zurich:20260423T085857
DTSTART;TZID=Europe/Zurich:20260508T000000
SUMMARY:Kreativität. Definitionen des vermeintlich Undefinierbaren
DESCRIPTION:Zukunft entsteht durch Kreativität. Die Einführung und Anwen
 dung von KI in Kernbereichen der Gesellschaft stellt uns vor die Herausfor
 derung\, unser Verständnis von Kreativität und Zukunft neu zu überdenk
 en. Was ist Kreativität? Welche (neuro-)kognitiven Mechanismen liegen kre
 ativen Ideen zugrunde? Welche Zukunftsvisionen von Kreativität sind utopi
 sch\, welche realistisch\, und welche Auswirkungen könnten sie auf Wissen
 schaft\, Kultur\, Religion und Gesellschaft haben? Und wie wird die Zukunf
 t imaginiert?\\r\\nEin interdisziplinärer Workshop mit Prof. Andres Wanne
 r (Informatik\, Hochschule Luzern)\, Prof. Dr. Miriam Rose (Systematische 
 Theologie\, Universität Basel)\, PD Dr. Zoë Lehmann Imfeld (Anglistik\, 
 Universität Bern)\, Prof. Dr. Konstanze Kemnitzer (Praktische Theologie\,
  Kirchliche Hochschule Wuppertal)\, Prof. Dr. Georgiana Huian (Systematisc
 he Theologie und Ökumene\, Bern)\, Prof. Dr. Uta Hauck-Thum (Pädagogik\,
  Universität München)\, Prof. Dr. Mathias Benedek (Psychologie\, Univer
 sität Graz).\\r\\nProgramm: hier [t3://file?uid=4069]
X-ALT-DESC:<p>Zukunft entsteht durch Kreativität. Die Einführung und Anw
 endung von KI in Kernbereichen der Gesellschaft stellt uns vor die Herausf
 orderung\, unser Verständnis von Kreativität und Zukunft neu zu überde
 nken. Was ist Kreativität? Welche (neuro-)kognitiven Mechanismen liegen k
 reativen Ideen zugrunde? Welche Zukunftsvisionen von Kreativität sind uto
 pisch\, welche realistisch\, und welche Auswirkungen könnten sie auf Wiss
 enschaft\, Kultur\, Religion und Gesellschaft haben? Und wie wird die Zuku
 nft imaginiert?</p>\n<p>Ein interdisziplinärer Workshop mit Prof. Andres 
 Wanner (Informatik\, Hochschule Luzern)\, Prof. Dr. Miriam Rose (Systemati
 sche Theologie\, Universität Basel)\, PD Dr. Zoë Lehmann Imfeld (Anglist
 ik\, Universität Bern)\, Prof. Dr. Konstanze Kemnitzer (Praktische Theolo
 gie\, Kirchliche Hochschule Wuppertal)\, Prof. Dr. Georgiana Huian (System
 atische Theologie und Ökumene\, Bern)\, Prof. Dr. Uta Hauck-Thum (Pädago
 gik\, Universität München)\, Prof. Dr. Mathias Benedek (Psychologie\, U
 niversität Graz).</p>\n<p>Programm: <a href="t3://file?uid=4069">hier</a>
 </p>
DTEND;TZID=Europe/Zurich:20260509T000000
END:VEVENT
END:VCALENDAR
